BEGIN:VCALENDAR
PRODID:-//AT Content Types//AT Event//EN
VERSION:2.0
METHOD:PUBLISH
BEGIN:VEVENT
DTSTAMP:20260419T143744+0200
CREATED:20100118T120844+0200
UID:ATEvent-3ce60322f5f9fc85d17ea18ae8f13a77
LAST-MODIFIED:20110331T151412+0200
SUMMARY:World Future Energy Exhibition 2010 (Abu Dhabi\, VAE)
DTSTART:20100118T100844+0200
DTEND:20100121T100844+0200
LOCATION:Abu Dhabi National Exhibition Centre
CONTACT:Claude Talj\, +971 2 4090409\, claude.talj@reedexpo.ae
URL:http://
CLASS:PUBLIC
END:VEVENT
END:VCALENDAR
