BEGIN:VCALENDAR
PRODID:-//AT Content Types//AT Event//EN
VERSION:2.0
METHOD:PUBLISH
BEGIN:VEVENT
DTSTAMP:20260422T131502+0200
CREATED:20070403T133035+0200
UID:ATEvent-6f1781fbdb5f64bfecd06f7f5538637a
LAST-MODIFIED:20110331T151408+0200
SUMMARY:Water & Membrane China (Shanghai) 2007
DTSTART:20070403T113035+0200
DTEND:20070405T113035+0200
DESCRIPTION:Water & Membrane China (Shanghai) 2007 is organized by the
  International Foundation for the protection of Drinking Water\, Shang
 hai Environment Protection Industry Association\, Shanghai Society of 
 Environmental Sciences\, and Membrane Industry Association.
LOCATION:Shanghai Mart
CONTACT:\, +010-65327238\, sino-expo@sino-expo.net
URL:http://
CLASS:PUBLIC
END:VEVENT
END:VCALENDAR
