BEGIN:VCALENDAR
PRODID:-//AT Content Types//AT Event//EN
VERSION:2.0
METHOD:PUBLISH
BEGIN:VEVENT
DTSTAMP:20260424T053227+0200
CREATED:20181211T113351+0200
UID:ATEvent-dbd9dc01ee594a4d895f6b8d5021704f
LAST-MODIFIED:20181211T113940+0200
SUMMARY:Sedaru Live! Tackle Stormwater Maintenance & Compliance
DTSTART:20181217T000000+0100
DTEND:
DESCRIPTION:Storm season is upon us. Is your MS4 system ready for the 
 winter storms\, snow runoff\, and spring rains? How confident are you 
 in your response?
LOCATION:Webinar
CONTACT:\, +1 626 244 0700\, info@sedaru.com
URL:https://sedaru.com/sedaru-live-maintain-ms4-compliance/?utm_source=organic&utm_medium=email&utm_campaign=M18Brand&utm_term=ms4webinar&utm_content=button
CLASS:PUBLIC
END:VEVENT
END:VCALENDAR
