BEGIN:VCALENDAR
PRODID:-//AT Content Types//AT Event//EN
VERSION:2.0
METHOD:PUBLISH
BEGIN:VEVENT
DTSTAMP:20260421T105328+0200
CREATED:20070827T130651+0200
UID:ATEvent-0c6b5ba3b886a646cbf805d0b2462a60
LAST-MODIFIED:20110331T151253+0200
SUMMARY:Rebuild Iraq 2007
DTSTART:20070827T110651+0200
DTEND:20070830T110651+0200
DESCRIPTION:4th Middle East Building & Construction Expo - Buildex2nd 
 Iraq Int’l Electrical\, Power\, Telecom\, Oil & Gas Expo - Irielex
LOCATION:Amman International Motor Show Center
CONTACT:\, +9714 2987730\, ali@orangefairs.com
URL:http://
CLASS:PUBLIC
END:VEVENT
END:VCALENDAR
