BEGIN:VCALENDAR
PRODID:-//AT Content Types//AT Event//EN
VERSION:2.0
METHOD:PUBLISH
BEGIN:VEVENT
DTSTAMP:20260420T225330+0200
CREATED:20070626T163426+0200
UID:ATEvent-d48561aa1704403e94b1bd76fb53df03
LAST-MODIFIED:20110331T151424+0200
SUMMARY:Pumps Valves & Pipes Africa Exhibition (PVPA 2007)
DTSTART:20070626T143426+0200
DTEND:20070628T143426+0200
DESCRIPTION:Pumps Valves & Pipes Africa 2007 (PVPA) is the 5th event i
 n the series\, scheduled from June 26-28 2007 at Gallagher Estate\, Jo
 hannesburg\, South Africa.
LOCATION:Gallagher Estate
CONTACT:Serean Thomson\, +27 (0) 11 783 7250/1/6/9\, marketing@exhibitionsafrica.com
URL:http://
CLASS:PUBLIC
END:VEVENT
END:VCALENDAR
