BEGIN:VCALENDAR
PRODID:-//AT Content Types//AT Event//EN
VERSION:2.0
METHOD:PUBLISH
BEGIN:VEVENT
DTSTAMP:20260419T183148+0200
CREATED:20120427T111355+0200
UID:ATEvent-bfc8ebbae2892190efcfe0b7a6bd438e
LAST-MODIFIED:20120427T111815+0200
SUMMARY:NASTT’s New Installation Methods Short Course (Ontario\, CA\, USA)
DTSTART:20121029T000000+0100
DTEND:20121030T000000+0100
LOCATION:Ayers Boutique Suites Convention Center
CONTACT:Lueke Jason\, 480-965-7417 \, jason.lueke@asu.edu
URL:http://www.nastt.org
CLASS:PUBLIC
END:VEVENT
END:VCALENDAR
