BEGIN:VCALENDAR
PRODID:-//AT Content Types//AT Event//EN
VERSION:2.0
METHOD:PUBLISH
BEGIN:VEVENT
DTSTAMP:20260421T204311+0200
CREATED:20080410T161928+0200
UID:ATEvent-378e87add2a5d90145927e81b8f9637a
LAST-MODIFIED:20110331T151430+0200
SUMMARY:IS-Shanghai 2008
DTSTART:20080410T141928+0200
DTEND:20080412T141928+0200
DESCRIPTION:6th International Symposium Geotechnical Aspects of Underg
 round Construction in Soft Ground
CONTACT:Dr. Xiongyao Xie\, +86-21-65982986\, secretary@tc28-shanghai.org
URL:http://
CLASS:PUBLIC
END:VEVENT
END:VCALENDAR
