BEGIN:VCALENDAR
PRODID:-//AT Content Types//AT Event//EN
VERSION:2.0
METHOD:PUBLISH
BEGIN:VEVENT
DTSTAMP:20260424T152953+0200
CREATED:20100308T173515+0200
UID:ATEvent-c93817c7497449c75928f7c23f4ee7a3
LAST-MODIFIED:20110331T151251+0200
SUMMARY:Infrastructure Libya 2010  (Tripoli)
DTSTART:20100308T153515+0200
DTEND:20100311T153515+0200
DESCRIPTION:Libya’s economic progress is dependent on overseas techn
 ology and expertise for the expansion\, upgrading and modernisation of
  its vital infrastructure.
LOCATION:Tripoli International Fairground
CONTACT:n.s.\, +44 20 7886 3082\, libya@montex.co.uk
URL:http://
CLASS:PUBLIC
END:VEVENT
END:VCALENDAR
