BEGIN:VCALENDAR
PRODID:-//AT Content Types//AT Event//EN
VERSION:2.0
METHOD:PUBLISH
BEGIN:VEVENT
DTSTAMP:20260423T000906+0200
CREATED:20070218T130354+0200
UID:ATEvent-bd05d8986bfbf463ae81d6faaef10c45
LAST-MODIFIED:20110331T151428+0200
SUMMARY:Geo Denver 2007
DTSTART:20070218T110354+0200
DTEND:20070221T110354+0200
DESCRIPTION:Geo-Denver 2007 will provide professionals and students in
  all specialty fields with information about innovative and emerging t
 echnologies needed to advance geotechnical engineering and related dis
 ciplines.
CONTACT:\, +1 (703) 295-6300
URL:http://
CLASS:PUBLIC
END:VEVENT
END:VCALENDAR
