BEGIN:VCALENDAR
PRODID:-//AT Content Types//AT Event//EN
VERSION:2.0
METHOD:PUBLISH
BEGIN:VEVENT
DTSTAMP:20260423T143631+0200
CREATED:20070530T125334+0200
UID:ATEvent-5f0c91f152c7d40b0dc076cc5234c8ad
LAST-MODIFIED:20110331T151426+0200
SUMMARY:European Geothermal Congress (EGC) 2007
DTSTART:20070530T105334+0200
DTEND:20070601T105334+0200
DESCRIPTION:The EGC 2007 will provide a stage to present and discuss n
 ew developments in science\, technology\, industry\, and policy of geo
 thermal energy on our continent.
LOCATION:Generali-Sportarena (SPUTZ)
CONTACT:\, +49 (0) 5907 - 545\, mail@egc2007.de
URL:http://
CLASS:PUBLIC
END:VEVENT
END:VCALENDAR
