BEGIN:VCALENDAR
PRODID:-//AT Content Types//AT Event//EN
VERSION:2.0
METHOD:PUBLISH
BEGIN:VEVENT
DTSTAMP:20260425T004324+0200
CREATED:20111011T125707+0200
UID:ATEvent-46f3dfef3db6efbe82a85779ca14e3aa
LAST-MODIFIED:20111201T104232+0200
SUMMARY:E-World energy & water (Essen\, Germany)
DTSTART:20120207T000000+0100
DTEND:20120209T000000+0100
LOCATION:MESSE ESSEN
CONTACT:Sarah  Guttkorn\, +49 201 7244-522\, visitorsupport@e-world-essen.com
URL:http://www.e-world-2012.com
CLASS:PUBLIC
END:VEVENT
END:VCALENDAR
