BEGIN:VCALENDAR
PRODID:-//AT Content Types//AT Event//EN
VERSION:2.0
METHOD:PUBLISH
BEGIN:VEVENT
DTSTAMP:20260422T211716+0200
CREATED:20190606T154648+0200
UID:ATEvent-83e4758538c54cc0be979db6b211bc1a
LAST-MODIFIED:20190606T160524+0200
SUMMARY:Trenchless Romania
DTSTART:20190613T000000+0200
DTEND:
DESCRIPTION:Main topics of the event:\n• Trenchless solutions for in
 stallation\nand rehabilitation of gas pipelines\;\n•Applications for
  water and waste\nwater systems\;\n•HDD and Direct Pipe Technology\;
 \n•CIPP Lining Methods and Projects.
LOCATION:2nd
CONTACT:Maria Nae\, +40724 550 830\, maria.nae@trenchlessromania.ro
URL:http://trenchless-romania.com/#wrap
CLASS:PUBLIC
END:VEVENT
END:VCALENDAR
