BEGIN:VCALENDAR
PRODID:-//AT Content Types//AT Event//EN
VERSION:2.0
METHOD:PUBLISH
BEGIN:VEVENT
DTSTAMP:20260420T130541+0200
CREATED:20180910T162759+0200
UID:ATEvent-f24db327541c4c8a8da805e36abcd24f
LAST-MODIFIED:20181024T163312+0200
SUMMARY:Certificate of Training in Asset Management (CTAM) 2018 Texas Workshop
DTSTART:20181105T000000+0100
DTEND:20181106T000000+0100
DESCRIPTION:The workshop will be a four-day offering of an exclusive f
 our part series in Asset Management coursework\, CTAM\, for Water Infr
 astructure and certification. The workshop covers one course level per
  day. Upon completion of the four courses\, participants receive desig
 nation as an Associate Water Asset Manager (AWAM) plus 30 hours of PDH
  credits.
LOCATION:Upper Trinity Region Water District Admin Building and Water Conservation Garden
CONTACT:Dr. Tom Iseley\, +1 404 386 5667\, dtiseley@latech.edu
URL:https://bami-i.com/event/ucta-bami-i-asset-management-conference/
CLASS:PUBLIC
END:VEVENT
END:VCALENDAR
