BEGIN:VCALENDAR
PRODID:-//AT Content Types//AT Event//EN
VERSION:2.0
METHOD:PUBLISH
BEGIN:VEVENT
DTSTAMP:20260425T045129+0200
CREATED:20101105T103651+0200
UID:ATEvent-6e3d0f9731bd50640684a71760188c08
LAST-MODIFIED:20110331T151349+0200
SUMMARY:6th Brussels Conference
DTSTART:20101105T083651+0200
DTEND:20101105T083651+0200
DESCRIPTION:Implementing the River Basin  Management Plans: State of r
 eporting and  expectations
LOCATION:Brussels
CONTACT:Mrs Alice Wilhelm\, +49 2242 872 168\, alice.wilhelm@ewa-online.eu
URL:http://
CLASS:PUBLIC
END:VEVENT
END:VCALENDAR
