BEGIN:VCALENDAR
PRODID:-//AT Content Types//AT Event//EN
VERSION:2.0
METHOD:PUBLISH
BEGIN:VEVENT
DTSTAMP:20260422T021313+0200
CREATED:20090910T124014+0200
UID:ATEvent-c390191b9b31f8396499232d681908a4
LAST-MODIFIED:20110331T151338+0200
SUMMARY:5th Annual Western Regional No-Dig Conference & Exhibition (Honolulu\, Hawaii)
DTSTART:20090910T104014+0200
DTEND:20090911T104014+0200
LOCATION:Sheraton Waikiki Resort
CONTACT:Jennifer Glynn\, +1 (925) 627-4100\, nastt@nastt.org
URL:http://
CLASS:PUBLIC
END:VEVENT
END:VCALENDAR
