BEGIN:VCALENDAR
PRODID:-//AT Content Types//AT Event//EN
VERSION:2.0
METHOD:PUBLISH
BEGIN:VEVENT
DTSTAMP:20260422T231052+0200
CREATED:20061001T112617+0200
UID:ATEvent-99d0db3c2bd35879088f6c5851609dc2
LAST-MODIFIED:20110331T151346+0200
SUMMARY:4th web-based training "Efficient Management of Wastewater\, its Treatment and Reuse"
DTSTART:20061001T092617+0200
DTEND:20061126T092617+0200
DESCRIPTION:This web-based Training offers an advanced course for prof
 essionals in wastewater management\, treatment and reuse preferably fr
 om Jordan\, Lebanon\, Palestine and Turkey.
LOCATION:no location (online-Training)
CONTACT:Andreas Bethmann\, Andreas.Bethmann@inwent.org
URL:http://
CLASS:PUBLIC
END:VEVENT
END:VCALENDAR
