BEGIN:VCALENDAR
PRODID:-//AT Content Types//AT Event//EN
VERSION:2.0
METHOD:PUBLISH
BEGIN:VEVENT
DTSTAMP:20260422T233433+0200
CREATED:20080213T170007+0200
UID:ATEvent-184a26f04415cef6b5185cfd9b48ba6e
LAST-MODIFIED:20110331T151308+0200
SUMMARY:3rd Brazilian Congress of TT - Trenchless Technology 1st No-Dig Latin-American Edition
DTSTART:20080213T150007+0200
DTEND:20080215T150007+0200
DESCRIPTION:main theme: "A trenchless city"
LOCATION:Transamerica Hotel
CONTACT:\, +55 11 3871 3626\, nodigbrasil2008@acquacon.com.br
URL:http://
CLASS:PUBLIC
END:VEVENT
END:VCALENDAR
