BEGIN:VCALENDAR
PRODID:-//AT Content Types//AT Event//EN
VERSION:2.0
METHOD:PUBLISH
BEGIN:VEVENT
DTSTAMP:20260421T134227+0200
CREATED:20200710T143655+0200
UID:ATEvent-5f6a50935cc44135929e1ea962011429
LAST-MODIFIED:20200710T151120+0200
SUMMARY:Zertifizierter Fachplaner Regenwassermanagement 1. Lehrgangswoche Tag 4
DTSTART:20201001T000000+0200
DTEND:
DESCRIPTION:Der Zertifikatslehrgang vermittelt vertiefte Kenntnisse ü
 ber den Umgang mit Regenwasser in Siedlungsgebieten.
LOCATION:Online
CONTACT:\, +49 511 39 433 30\, info@ta-hannover.de
URL:https://www.ta-hannover.de/download/Flyer-ZFR.pdf
CLASS:PUBLIC
END:VEVENT
END:VCALENDAR
