BEGIN:VCALENDAR
PRODID:-//AT Content Types//AT Event//EN
VERSION:2.0
METHOD:PUBLISH
BEGIN:VEVENT
DTSTAMP:20260423T132924+0200
CREATED:20210311T133741+0200
UID:ATEvent-ff1bd51fd3244bf497ef600985da1c73
LAST-MODIFIED:20210311T134539+0200
SUMMARY:Watrex Expo
DTSTART:20210614T000000+0200
DTEND:20210616T000000+0200
DESCRIPTION:EGYPT… a perfect venue to host Watrex Expo 2021\, where 
 investment opportunities exists .... and where exhibitions industry is
  a major part in the engine of growth
LOCATION:Egypt International Exhibition Center "EIEC"
CONTACT:\, +202 23580982 \, info@atf-egy.com
URL:http://www.watrexexpo.com/site/
CLASS:PUBLIC
END:VEVENT
END:VCALENDAR
