BEGIN:VCALENDAR
PRODID:-//AT Content Types//AT Event//EN
VERSION:2.0
METHOD:PUBLISH
BEGIN:VEVENT
DTSTAMP:20260419T145232+0200
CREATED:20180618T105727+0200
UID:ATEvent-f8a5d890867b403e83b9d94c7881265e
LAST-MODIFIED:20180618T110131+0200
SUMMARY:Schmutzfrachtberechnung - Grundlagen\, Praxis und Regelwerke
DTSTART:20180927T000000+0200
DTEND:
DESCRIPTION:Neben der baulichen und hydraulischen Zustandsbewertung is
 t auch die Ermittlung der Gewässerbelastung durch Einleitungen aus En
 tlastungsbauwerken\, Kläranlagen aber auch durch Regenwassereinleitun
 gen aus Trennkanalisationen eine wichtige Grundlage für Sanierungsen
 tscheidungen. Der TAH-Workshop bringt dieses wichtige Thema den Teilne
 hmern näher.
LOCATION:Die detaillierten Informationen zu dem Veranstaltungsort in Frankfurt/Main erhalten Sie mit der Anmeldebestätigung.
CONTACT:\, +49 511 39433 30\, info@ta-hannover.de
URL:https://ta-hannover.de/download/Flyer-NETZ.pdf
CLASS:PUBLIC
END:VEVENT
END:VCALENDAR
