BEGIN:VCALENDAR
PRODID:-//AT Content Types//AT Event//EN
VERSION:2.0
METHOD:PUBLISH
BEGIN:VEVENT
DTSTAMP:20260419T162434+0200
CREATED:20200831T112943+0200
UID:ATEvent-7cfe825bcc1b4fd19d40b73ac7825955
LAST-MODIFIED:20200831T120417+0200
SUMMARY:Klärschlammbehandlung und -entsorgung
DTSTART:20201027T000000+0100
DTEND:
DESCRIPTION:Durch die neue Klärschlammverordnung sowie die aktuellen 
 Entwicklungen des Düngerechts haben sich die Randbedingungen für die
  Entsorgung von Klärschlämmen grundlegend geändert. Insbesondere di
 e bisher von kleinen und mittleren Kläranlagen häufig gewählte Opti
 on der bodenbezogenen Verwertung wird künftig nur mehr in geringerem 
 Umfang verfügbar sein. Die DWA-Tagung unterstützt hier mit Fachwisse
 n.
LOCATION:HOTEL STADTFELD
CONTACT:Sabrina  Prentzel\, +49 2242 872 116\, prentzel@dwa.de
URL:https://de.dwa.de/de/kl%C3%A4rschlammbehandlung-und-entsorgung-f%C3%BCr-kleine-und-mittlere-kl%C3%A4ranlagen.html
CLASS:PUBLIC
END:VEVENT
END:VCALENDAR
