BEGIN:VCALENDAR
PRODID:-//AT Content Types//AT Event//EN
VERSION:2.0
METHOD:PUBLISH
BEGIN:VEVENT
DTSTAMP:20260424T023234+0200
CREATED:20120612T102757+0200
UID:ATEvent-3348e9f65399613bb11aa0fe4c031a7e
LAST-MODIFIED:20120612T103644+0200
SUMMARY:InterGeo 2012 (Hannover)
DTSTART:20121009T000000+0200
DTEND:20121011T000000+0200
DESCRIPTION:Die INTERGEO ist die weltweit größte Veranstaltung und K
 ommunikationsplattform im Bereich der Geodäsie\, Geoinformation und L
 andmanagement.
LOCATION:Deutsche Messe
CONTACT:Denise Wenzel\, +49 / (0)721 / 9 31 33-730\, dwenzel@hinte-messe.de
URL:http://www.intergeo.de
CLASS:PUBLIC
END:VEVENT
END:VCALENDAR
