BEGIN:VCALENDAR
PRODID:-//AT Content Types//AT Event//EN
VERSION:2.0
METHOD:PUBLISH
BEGIN:VEVENT
DTSTAMP:20260419T163821+0200
CREATED:20180618T102804+0200
UID:ATEvent-54a05cd10c894f31bb6f81df23f77fb5
LAST-MODIFIED:20180618T103226+0200
SUMMARY:Kanalnetzberechnung I - Grundkurs
DTSTART:20180925T000000+0200
DTEND:
DESCRIPTION:Die Sanierung bestehender Entwässerungssysteme ist eine w
 ichtige und oft kostenintensive Zukunftsaufgabe in der Siedlungswasser
 wirtschaft. Neben der baulichen Zustandsbewertung ist die Beurteilung 
 des hydraulischen Zustandes die entscheidende Grundlage für Sanierun
 gs- und Neubauentscheidungen. Im Rahmen des Workshops werden neue Entw
 icklungen und Regelwerke nach einer kurzen Auffrischung der theoretisc
 hen Grundlagen der Kanalnetzberechnung praxisorientiert behandelt.
LOCATION:Die detaillierten Informationen zu dem Veranstaltungsort in Frankfurt a. M. erhalten Sie mit der Anmeldebestätigung.
CONTACT:\, +49 511 39433 30\, info@ta-hannover.de
URL:https://ta-hannover.de/download/Flyer-NETZ.pdf
CLASS:PUBLIC
END:VEVENT
END:VCALENDAR
