BEGIN:VCALENDAR
PRODID:-//AT Content Types//AT Event//EN
VERSION:2.0
METHOD:PUBLISH
BEGIN:VEVENT
DTSTAMP:20260419T143347+0200
CREATED:20200519T154152+0200
UID:ATEvent-2d41e2f59ffb439ab86a093a02135320
LAST-MODIFIED:20200528T123649+0200
SUMMARY:Bauleitertag 2020
DTSTART:20200618T000000+0200
DTEND:
DESCRIPTION:Aktuelles aus Praxis und Recht
CONTACT:\, +49 511 39433 30\, info@ta-hannover.de
URL:https://www.ta-hannover.de/download/Flyer-BAU.pdf
CLASS:PUBLIC
END:VEVENT
END:VCALENDAR
