BEGIN:VCALENDAR
PRODID:-//AT Content Types//AT Event//EN
VERSION:2.0
METHOD:PUBLISH
BEGIN:VEVENT
DTSTAMP:20260424T024844+0200
CREATED:20120518T082232+0200
UID:ATEvent-98c1ba369ab3eb62e1ee338d8e16770e
LAST-MODIFIED:20121024T163541+0200
SUMMARY:9. Kanalbautage (Neuss)
DTSTART:20121106T000000+0100
DTEND:
LOCATION:Novotel Düsseldorf Neuss Am Rosengarten
CONTACT:Renate Teichmann\, 02242 872-118\, teichmann@dwa.de
URL:http://www.dwa.de
CLASS:PUBLIC
END:VEVENT
END:VCALENDAR
