BEGIN:VCALENDAR
PRODID:-//AT Content Types//AT Event//EN
VERSION:2.0
METHOD:PUBLISH
BEGIN:VEVENT
DTSTAMP:20260424T022452+0200
CREATED:20120731T105414+0200
UID:ATEvent-b4dc1642283d04624e773230586dccd7
LAST-MODIFIED:20120731T110248+0200
SUMMARY:4. Deutscher Tag der Grundstücksentwässerung
DTSTART:20121119T000000+0100
DTEND:
LOCATION:IKT Gelsenkirchen
CONTACT:Dr.-Ing. Igor Borovsky\, 0511 394 33-30\, info@ta-hannover.de
URL:http://www.ikt.de
CLASS:PUBLIC
END:VEVENT
END:VCALENDAR
