BEGIN:VCALENDAR
PRODID:-//AT Content Types//AT Event//EN
VERSION:2.0
METHOD:PUBLISH
BEGIN:VEVENT
DTSTAMP:20260419T144710+0200
CREATED:20180712T145913+0200
UID:ATEvent-f9533dd86d634933987530aec2bc081f
LAST-MODIFIED:20180713T103101+0200
SUMMARY:16.TAH Sanierungstage
DTSTART:20180904T000000+0200
DTEND:20180905T000000+0200
DESCRIPTION:Das systematische Vorgehen bei der Kanalsanierung zur lang
 fristigen Sicherung von Qualität und Investition: Planung\, Qualität
 ssicherung und Sanierungstechniken.
LOCATION:Altes Rathaus Hannover
CONTACT:\, +49 511 39433-30\, info@ta-hannover.de
URL:https://www.ta-hannover.de/download/Flyer-SANI.pdf
CLASS:PUBLIC
END:VEVENT
END:VCALENDAR
